Workbook

Sheet GIFI P&L Summary
A1: Client Name
A2: Income Statement
A3: For the year ending December 31, 202___
F5: Net | H5: HST | J5: PST | K5: Gross
A6: REVENUE
B7: Commissions | F7: ='GIFI Details'!N8 -> 0 | H7: ='GIFI Details'!N10 -> 0 | J7: =K7*8% -> 0 | K7: =F7+H7 -> 0
K8: =F8+H8 -> 0
F9: =SUM(F7:F8) -> 0 | H9: =SUM(H7:H8) -> 0 | J9: =SUM(J7:J8) -> 0 | K9: =SUM(K7:K8) -> 0
H10: Line 103
A11: COST OF SALES
B12: RECO fees | F12: ='GIFI Details'!N15/1.13 -> 0 | H12: =F12*0.13 -> 0 | K12: =F12+H12 -> 0
B13: Office fees | F13: ='GIFI Details'!N16/1.13 -> 0 | H13: =F13*0.13 -> 0 | K13: =F13+H13 -> 0
B14: Brokerage charges/fees | F14: =SUM('GIFI Details'!N17:N19) -> 0 | H14: =F14*0.13 -> 0 | K14: =F14+H14 -> 0
F15: =SUM(F12:F14) -> 0 | H15: =SUM(H12:H14) -> 0 | J15: =SUM(J12:J14) -> 0 | K15: =SUM(K12:K14) -> 0
A17: GROSS MARGIN | F17: =F9-F15 -> 0 | K17: =K9-K15 -> 0
A19: EXPENSES
B20: ='GIFI Details'!A20 -> Meals & Entertainment | F20: ='GIFI Details'!N20/1.13 -> 0 | H20: =F20*0.13 -> 0 | K20: =F20+H20 -> 0
B21: ='GIFI Details'!A21 -> Advertising & Promo - gifts | F21: ='GIFI Details'!N21/1.13 -> 0 | H21: =F21*0.13 -> 0 | K21: =F21+H21 -> 0
B22: ='GIFI Details'!A22 -> Supplies | F22: ='GIFI Details'!N22/1.13 -> 0 | H22: =F22*0.13 -> 0 | K22: =F22+H22 -> 0
B23: ='GIFI Details'!A23 -> Postage & Delivery | F23: ='GIFI Details'!N23/1.13 -> 0 | H23: =F23*0.13 -> 0 | K23: =F23+H23 -> 0
B24: ='GIFI Details'!A24 -> Office Supplies | F24: ='GIFI Details'!N24/1.13 -> 0 | H24: =F24*0.13 -> 0 | K24: =F24+H24 -> 0
B25: ='GIFI Details'!A25 -> Service/Bank Fees | F25: ='GIFI Details'!N25 -> 0 | H25: 0 | K25: =F25+H25 -> 0
B26: ='GIFI Details'!A26 -> Business taxes, licence | F26: ='GIFI Details'!N26 -> 0 | H26: =F26 -> 0 | K26: =F26+H26 -> 0
B27: ='GIFI Details'!A27 -> Telephone | F27: ='GIFI Details'!N27/1.13 -> 0 | H27: =F27*0.13 -> 0 | K27: =F27+H27 -> 0
B28: ='GIFI Details'!A28 -> Website advertisements | F28: ='GIFI Details'!N28/1.13 -> 0 | H28: =F28*0.13 -> 0 | K28: =F28+H28 -> 0
B29: ='GIFI Details'!A29 -> Training courses/ Seminars | F29: ='GIFI Details'!N29/1.13 -> 0 | H29: =F29*0.13 -> 0 | K29: =F29+H29 -> 0
B30: ='GIFI Details'!A30 -> Subscription | F30: ='GIFI Details'!N30 -> 0 | H30: 0 | K30: =F30+H30 -> 0
B31: ='GIFI Details'!A31 -> Other advert. - posts, etc | F31: ='GIFI Details'!N31/1.13 -> 0 | H31: =F31*0.13 -> 0 | K31: =F31+H31 -> 0
B32: ='GIFI Details'!A32 -> Internet | F32: ='GIFI Details'!N32/1.13 -> 0 | H32: =F32*0.13 -> 0 | K32: =F32+H32 -> 0
B33: ='GIFI Details'!A33 -> 0 | F33: ='GIFI Details'!N33/1.13 -> 0 | H33: =F33*0.13 -> 0 | K33: =F33+H33 -> 0
B34: ='GIFI Details'!A34 -> 0 | F34: ='GIFI Details'!N34/1.13 -> 0 | H34: =F34*0.13 -> 0 | K34: =F34+H34 -> 0
B35: ='GIFI Details'!A35 -> 0 | F35: ='GIFI Details'!N35/1.13 -> 0 | H35: =F35*0.13 -> 0 | K35: =F35+H35 -> 0
B36: Vehicle expenses | F36: =Vehicle!L24 -> #DIV/0! | H36: =Vehicle!J24 -> #DIV/0! | K36: =F36+H36 -> #DIV/0!
B37: Work space in home | F37: ='Home Office'!I23 -> #DIV/0! | H37: 0 | K37: =F37+H37 -> #DIV/0!
B38: ='GIFI Details'!A55 -> 0 | K38: =F38+H38 -> 0
F40: =SUM(F20:F38) -> #DIV/0! | H40: =SUM(H15:H38) -> #DIV/0! | K40: =SUM(K20:K38) -> #DIV/0!
H41: Line 108
H42: =H9-H40 -> #DIV/0!
A44: NET INCOME/(LOSS) | F44: =F17-F40 -> #DIV/0!

Sheet GIFI Details
A1: ='GIFI P&L Summary'!A1 -> Client Name | H1: enter monthly amounts
A2: ='GIFI P&L Summary'!A2 -> Income Statement
A3: ='GIFI P&L Summary'!A3 -> For the year ending December 31, 202___
B6: January | C6: February | D6: March | E6: April | F6: May | G6: June | H6: July | I6: August | J6: September | K6: October | L6: November | M6: December | N6: TOTAL
A7: REVENUE
A8: Income | N8: =SUM(B8:M8) -> 0
A9: Other Income | N9: =SUM(B9:M9) -> 0
A10: HST Collected | N10: =SUM(B10:M10) -> 0
B12: =SUM(B8:B10) -> 0 | C12: =SUM(C8:C10) -> 0 | D12: =SUM(D8:D10) -> 0 | E12: =SUM(E8:E10) -> 0 | F12: =SUM(F8:F10) -> 0 | G12: =SUM(G8:G10) -> 0 | H12: =SUM(H8:H10) -> 0 | I12: =SUM(I8:I10) -> 0 | ... N12: =SUM(N8:N10) -> 0
A14: EXPENSES
N15: =SUM(B15:M15) -> 0
A16: Materials | N16: =SUM(B16:M16) -> 0
A17: Subcontractors | N17: =SUM(B17:M17) -> 0
A18: Office expenses | N18: =SUM(B18:M18) -> 0
A19: Memberships | N19: =SUM(B19:M19) -> 0
A20: Meals & Entertainment | N20: =SUM(B20:M20) -> 0
A21: Advertising & Promo - gifts | N21: =SUM(B21:M21) -> 0
A22: Supplies | N22: =SUM(B22:M22) -> 0
A23: Postage & Delivery | N23: =SUM(B23:M23) -> 0
A24: Office Supplies | N24: =SUM(B24:M24) -> 0
A25: Service/Bank Fees | N25: =SUM(B25:M25) -> 0
A26: Business taxes, licence | N26: =SUM(B26:M26) -> 0
A27: Telephone | N27: =SUM(B27:M27) -> 0
... A32: Internet | N32: =SUM(B32:M32) -> 0
N33: =SUM(B33:M33) -> 0
N34: =SUM(B34:M34) -> 0
N35: =SUM(B35:M35) -> 0
A37: Fuel & oil change | N37: =SUM(B37:M37) -> 0
A38: Lease payments, if any | N38: =SUM(B38:M38) -> 0
A39: Interest | N39: =SUM(B39:M39) -> 0
A40: Insurance | N40: =SUM(B40:M40) -> 0
A41: Maintenance & repairs | N41: =SUM(B41:M41) -> 0
A42: Licence & registration | N42: =SUM(B42:M42) -> 0
A43: Other: Parking/ETR | N43: =SUM(B43:M43) -> 0
A45: Heat - Enbridge | N45: =SUM(A45:M45) -> 0
A46: Hydro - Powerstream | N46: =SUM(A46:M46) -> 0
A47: Insurance | N47: =SUM(A47:M47) -> 0
A48: Property tax | N48: =SUM(A48:M48) -> 0
A49: Mortgage interest | N49: =SUM(A49:M49) -> 0
A50: Home Maint. & repairs | N50: =SUM(A50:M50) -> 0
...

Sheet HST Return
A1: ='GIFI Details'!A1 -> Client Name
A2: HST return
A3: ='GIFI Details'!A3 -> For the year ending December 31, 202___
A4: GST reg'tn:
D6: Jan - Mar | F6: Apr - Jun | H6: Jul - Sep | J6: Oct - Dec
A8: Line 101 | B8: Sales | D8: =SUM('GIFI Details'!B8:D8) -> 0 | F8: =SUM('GIFI Details'!E8:G8) -> 0 | H8: =SUM('GIFI Details'!H8:J8) -> 0 | J8: =SUM('GIFI Details'!K8:M8) -> 0
A10: Line 103 | B10: HST Collected | D10: =SUM('GIFI Details'!B10:D10) -> 0 | F10: =SUM('GIFI Details'!E10:G10) -> 0 | H10: =SUM('GIFI Details'!H10:J10) -> 0 | J10: =SUM('GIFI Details'!K10:M10) -> 0
A12: Line 105 | D12: =D10 -> 0 | F12: =F10 -> 0 | H12: =H10 -> 0 | J12: =J10 -> 0
A14: Line 106 | B14: HST paid on purchases | D14: =D66 -> #DIV/0! | F14: =F66 -> #DIV/0! | H14: =H66 -> #DIV/0! | J14: =J66 -> #DIV/0!
A16: Line 108 | D16: =D14 -> #DIV/0! | F16: =F14 -> #DIV/0! | H16: =H14 -> #DIV/0! | J16: =J14 -> #DIV/0!
A18: Line 109 | B18: Net Tax | D18: =D12-D16 -> #DIV/0! | F18: =F12-F16 -> #DIV/0! | H18: =H12-H16 -> #DIV/0! | J18: =J12-J16 -> #DIV/0!
A20: Line 110 | B20: Adjustments | D20: 0 | F20: 0 | H20: 0 | J20: 0
A22: Line 112 | D22: =D18-D20 -> #DIV/0! | F22: =F18-F20 -> #DIV/0! | H22: =H18-H20 -> #DIV/0! | J22: =J18-J20 -> #DIV/0!
A24: Line 113A | B24: Balance | D24: =D22 -> #DIV/0! | F24: =F22 -> #DIV/0! | H24: =H22 -> #DIV/0! | J24: =J22 -> #DIV/0!
A26: Line 113C | B26: Balance | D26: =D24 -> #DIV/0! | F26: =F24 -> #DIV/0! | H26: =H24 -> #DIV/0! | J26: =J24 -> #DIV/0!
A28: Line 114 | B28: Refund | D28: =IF(D26<0,D26,0) -> #DIV/0! | F28: =IF(F26<0,F26,0) -> #DIV/0! | H28: =IF(H26<0,H26,0) -> #DIV/0! | J28: =IF(J26<0,J26,0) -> #DIV/0!
A30: Line 115 | B30: Payment due | D30: =IF(D26>0,D26,0) -> #DIV/0! | F30: =IF(F26>0,F26,0) -> #DIV/0! | H30: =IF(H26>0,H26,0) -> #DIV/0! | J30: =IF(J26>0,J26,0) -> #DIV/0!
A36: ='GIFI Details'!A15 -> 0 | D36: =SUM('GIFI Details'!B15:D15)/1.13*0.13 -> 0 | F36: =SUM('GIFI Details'!E15:G15)/1.13*13% -> 0 | H36: =SUM('GIFI Details'!H15:J15)/1.13*13% -> 0 | J36: =SUM('GIFI Details'!K15:M15)/1.13*13% -> 0
A37: ='GIFI Details'!A16 -> Materials | D37: =SUM('GIFI Details'!B16:D16)/1.13*0.13 -> 0 | F37: =SUM('GIFI Details'!E16:G16)/1.13*13% -> 0 | H37: =SUM('GIFI Details'!H16:J16)/1.13*13% -> 0 | J37: =SUM('GIFI Details'!K16:M16)/1.13*13% -> 0
A38: ='GIFI Details'!A17 -> Subcontractors | D38: =SUM('GIFI Details'!B17:D17)/1.13*0.13 -> 0 | F38: =SUM('GIFI Details'!E17:G17)/1.13*13% -> 0 | H38: =SUM('GIFI Details'!H17:J17)/1.13*13% -> 0 | J38: =SUM('GIFI Details'!K17:M17)/1.13*13% -> 0
A39: ='GIFI Details'!A18 -> Office expenses | D39: =SUM('GIFI Details'!B18:D18)/1.13*0.13 -> 0 | F39: =SUM('GIFI Details'!E18:G18)/1.13*13% -> 0 | H39: =SUM('GIFI Details'!H18:J18)/1.13*13% -> 0 | J39: =SUM('GIFI Details'!K18:M18)/1.13*13% -> 0
A40: ='GIFI Details'!A19 -> Memberships | D40: =SUM('GIFI Details'!B19:D19)/1.13*0.13 -> 0 | F40: =SUM('GIFI Details'!E19:G19)/1.13*13% -> 0 | H40: =SUM('GIFI Details'!H19:J19)/1.13*13% -> 0 | J40: =SUM('GIFI Details'!K19:M19)/1.13*13% -> 0
A41: ='GIFI Details'!A20 -> Meals & Entertainment | D41: =SUM('GIFI Details'!B20:D20)/1.13*0.13 -> 0 | F41: =SUM('GIFI Details'!E20:G20)/1.13*13% -> 0 | H41: =SUM('GIFI Details'!H20:J20)/1.13*13% -> 0 | J41: =SUM('GIFI Details'!K20:M20)/1.13*13% -> 0
A42: ='GIFI Details'!A21 -> Advertising & Promo - gifts | D42: =SUM('GIFI Details'!B21:D21)/1.13*0.13 -> 0 | F42: =SUM('GIFI Details'!E21:G21)/1.13*13% -> 0 | H42: =SUM('GIFI Details'!H21:J21)/1.13*13% -> 0 | J42: =SUM('GIFI Details'!K21:M21)/1.13*13% -> 0
A43: ='GIFI Details'!A22 -> Supplies | D43: =SUM('GIFI Details'!B22:D22)/1.13*0.13 -> 0 | F43: =SUM('GIFI Details'!E22:G22)/1.13*13% -> 0 | H43: =SUM('GIFI Details'!H22:J22)/1.13*13% -> 0 | J43: =SUM('GIFI Details'!K22:M22)/1.13*13% -> 0
A44: ='GIFI Details'!A23 -> Postage & Delivery | D44: =SUM('GIFI Details'!B23:D23)/1.13*0.13 -> 0 | F44: =SUM('GIFI Details'!E23:G23)/1.13*13% -> 0 | H44: =SUM('GIFI Details'!H23:J23)/1.13*13% -> 0 | J44: =SUM('GIFI Details'!K23:M23)/1.13*13% -> 0
A45: ='GIFI Details'!A24 -> Office Supplies | D45: =SUM('GIFI Details'!B24:D24)/1.13*0.13 -> 0 | F45: =SUM('GIFI Details'!E24:G24)/1.13*13% -> 0 | H45: =SUM('GIFI Details'!H24:J24)/1.13*13% -> 0 | J45: =SUM('GIFI Details'!K24:M24)/1.13*13% -> 0
A46: ='GIFI Details'!A25 -> Service/Bank Fees | D46: =SUM('GIFI Details'!B25:D25)/1.13*0.13 -> 0 | F46: =SUM('GIFI Details'!E25:G25)/1.13*13% -> 0 | H46: =SUM('GIFI Details'!H25:J25)/1.13*13% -> 0 | J46: =SUM('GIFI Details'!K25:M25)/1.13*13% -> 0
A47: ='GIFI Details'!A26 -> Business taxes, licence | D47: =SUM('GIFI Details'!B26:D26)/1.13*0.13 -> 0 | F47: =SUM('GIFI Details'!E26:G26)/1.13*13% -> 0 | H47: =SUM('GIFI Details'!H26:J26)/1.13*13% -> 0 | J47: =SUM('GIFI Details'!K26:M26)/1.13*13% -> 0
... A56: ='GIFI Details'!A35 -> 0 | D56: =SUM('GIFI Details'!B35:D35)/1.13*0.13 -> 0 | F56: =SUM('GIFI Details'!E35:G35)/1.13*13% -> 0 | H56: =SUM('GIFI Details'!H35:J35)/1.13*13% -> 0 | J56: =SUM('GIFI Details'!K35:M35)/1.13*13% -> 0
A57: ='GIFI Details'!A37 -> Fuel & oil change | D57: =SUM('GIFI Details'!B37:D37)/1.13*0.13*Vehicle!$G$15 -> #DIV/0! | F57: =SUM('GIFI Details'!E37:G37)/1.13*13%*Vehicle!$G$15 -> #DIV/0! | H57: =SUM('GIFI Details'!H37:J37)/1.13*13%*Vehicle!$G$15 -> #DIV/0! | J57: =SUM('GIFI Details'!K37:M37)/1.13*13%*Vehicle!$G$15 -> #DIV/0!
A58: ='GIFI Details'!A38 -> Lease payments, if any | D58: =SUM('GIFI Details'!B38:D38)/1.13*0.13*Vehicle!$G$15 -> #DIV/0! | F58: =SUM('GIFI Details'!E38:G38)/1.13*13%*Vehicle!$G$15 -> #DIV/0! | H58: =SUM('GIFI Details'!H38:J38)/1.13*13%*Vehicle!$G$15 -> #DIV/0! | J58: =SUM('GIFI Details'!K38:M38)/1.13*13%*Vehicle!$G$15 -> #DIV/0!
A59: ='GIFI Details'!A39 -> Interest | D59: 0 | F59: 0 | H59: 0 | J59: 0
A60: ='GIFI Details'!A40 -> Insurance | D60: 0 | F60: 0 | H60: 0 | J60: 0
A61: ='GIFI Details'!A41 -> Maintenance & repairs | D61: =SUM('GIFI Details'!B41:D41)/1.13*0.13*Vehicle!$G$15 -> #DIV/0! | F61: =SUM('GIFI Details'!E41:G41)/1.13*13%*Vehicle!$G$15 -> #DIV/0! | H61: =SUM('GIFI Details'!H41:J41)/1.13*13%*Vehicle!$G$15 -> #DIV/0! | J61: =SUM('GIFI Details'!K41:M41)/1.13*13%*Vehicle!$G$15 -> #DIV/0!
A62: ='GIFI Details'!A42 -> Licence & registration | D62: =SUM('GIFI Details'!B42:D42)/1.13*0.13*Vehicle!$G$15 -> #DIV/0! | F62: =SUM('GIFI Details'!E42:G42)/1.13*13%*Vehicle!$G$15 -> #DIV/0! | H62: =SUM('GIFI Details'!H42:J42)/1.13*13%*Vehicle!$G$15 -> #DIV/0! | J62: =SUM('GIFI Details'!K42:M42)/1.13*13%*Vehicle!$G$15 -> #DIV/0!
A63: ='GIFI Details'!A43 -> Other: Parking/ETR | D63: =SUM('GIFI Details'!B43:D43)/1.13*0.13*Vehicle!$G$15 -> #DIV/0! | F63: =SUM('GIFI Details'!E43:G43)/1.13*13%*Vehicle!$G$15 -> #DIV/0! | H63: =SUM('GIFI Details'!H43:J43)/1.13*13%*Vehicle!$G$15 -> #DIV/0! | J63: =SUM('GIFI Details'!K43:M43)/1.13*13%*Vehicle!$G$15 -> #DIV/0!
A64: ='GIFI Details'!A44 -> 0
D66: =SUM(D36:D64) -> #DIV/0! | F66: =SUM(F36:F64) -> #DIV/0! | H66: =SUM(H36:H64) -> #DIV/0! | J66: =SUM(J36:J64) -> #DIV/0!

Sheet Vehicle
A1: ='GIFI Details'!A1 -> Client Name
A2: Vehicle Expense | J2: Please fill in all the items listed in yellow.
A3: ='GIFI P&L Summary'!A3 -> For the year ending December 31, 202___
A7: Vehicle Description:
A8: Year of purchase/lease:
A9: Cost of vehicle: | D9: 0 | F9: if Leased, then enter N/A
A10: Total kms of business use: | D10: 0 | F10: Please input the total kms driven in the year for the business purposes
A11: Total kms driven in year: | D11: 0 | F11: Please input the total kms driven in the year including the kms for personal use
H13: Gross | J13: HST | L13: Net | N13: Total expenses after tax but before %
A15: ='GIFI Details'!A37 -> Fuel & oil change | E15: ='GIFI Details'!N37 -> 0 | F15: x | G15: =D10/D11 -> #DIV/0! | H15: =E15*G15 -> #DIV/0! | J15: =H15/1.13*0.13 -> #DIV/0! | L15: =H15-J15 -> #DIV/0! | N15: =E15/1.13 -> 0
A16: ='GIFI Details'!A38 -> Lease payments, if any | E16: ='GIFI Details'!N38 -> 0 | F16: x | G16: =G15 -> #DIV/0! | H16: =E16*G16 -> #DIV/0! | J16: =H16/1.13*0.13 -> #DIV/0! | L16: =H16-J16 -> #DIV/0! | N16: =E16/1.13 -> 0
A17: ='GIFI Details'!A39 -> Interest | E17: ='GIFI Details'!N39 -> 0 | F17: x | G17: =G15 -> #DIV/0! | H17: =E17*G17 -> #DIV/0! | J17: 0 | L17: =H17-J17 -> #DIV/0! | N17: =E17 -> 0
A18: Ship Car from US to Canada | F18: x | G18: =G15 -> #DIV/0! | H18: =E18*G18 -> #DIV/0! | J18: =H18/1.13*0.13 -> #DIV/0! | L18: =H18-J18 -> #DIV/0! | N18: =E18/1.13 -> 0
A19: Immobilizer put on Car | F19: x | G19: =G15 -> #DIV/0! | H19: =E19*G19 -> #DIV/0! | J19: =H19/1.13*0.13 -> #DIV/0! | L19: =H19-J19 -> #DIV/0! | N19: =E19 -> 0
A20: ='GIFI Details'!A40 -> Insurance | E20: ='GIFI Details'!N40 -> 0 | F20: x | G20: =G17 -> #DIV/0! | H20: =E20*G20 -> #DIV/0! | J20: 0 | L20: =H20-J20 -> #DIV/0! | N20: =E20 -> 0
A21: ='GIFI Details'!A41 -> Maintenance & repairs | E21: ='GIFI Details'!N41 -> 0 | F21: x | G21: =G20 -> #DIV/0! | H21: =E21*G21 -> #DIV/0! | J21: =H21/1.13*0.13 -> #DIV/0! | L21: =H21-J21 -> #DIV/0! | N21: =E21/1.13 -> 0
A22: ='GIFI Details'!A42 -> Licence & registration | E22: ='GIFI Details'!N42 -> 0 | F22: x | G22: =G21 -> #DIV/0! | H22: =E22*G22 -> #DIV/0! | J22: 0 | L22: =H22-J22 -> #DIV/0! | N22: =E22 -> 0
A23: ='GIFI Details'!A43 -> Other: Parking/ETR | E23: ='GIFI Details'!N43 -> 0 | F23: x | G23: 1 | H23: =E23*G23 -> 0 | J23: =H23/1.13*0.13 -> 0 | L23: =H23-J23 -> 0 | N23: =E23/1.13 -> 0
H24: =SUM(H15:H23) -> #DIV/0! | J24: =SUM(J15:J23) -> #DIV/0! | L24: =SUM(L15:L23) -> #DIV/0!

Sheet Home Office
A1: ='GIFI Details'!A1 -> Client Name
A2: Workspace-in-Home
A3: ='GIFI Details'!A3 -> For the year ending December 31, 202___
A6: Square Footage Dedicated for Office | E6: Please input the square feet area used to do business from home.
A7: Total Square Footage of House | E7: Please input the total square feet area of the home.
D8: =D6/D7 -> #DIV/0!
A10: Lease Expenses
B11: Work-space-in-home (e.g. 20%):
C12: Heat | F12: ='GIFI Details'!N45 -> 0 | G12: x | H12: =$D$8 -> #DIV/0! | I12: =F12*H12 -> #DIV/0!
C13: Hydro | F13: ='GIFI Details'!N46 -> 0 | G13: x | H13: =$D$8 -> #DIV/0! | I13: =F13*H13 -> #DIV/0!
C14: Insurance | F14: ='GIFI Details'!N47 -> 0 | G14: x | H14: =$D$8 -> #DIV/0! | I14: =F14*H14 -> #DIV/0!
C15: Telephone - home | F15: ='GIFI Details'!N27 -> 0 | G15: x | H15: =$D$8 -> #DIV/0! | I15: =F15*H15 -> #DIV/0!
C16: Property tax | F16: ='GIFI Details'!N48 -> 0 | G16: x | H16: =$D$8 -> #DIV/0! | I16: =F16*H16 -> #DIV/0!
C17: Rent | G17: x | H17: =$D$8 -> #DIV/0! | I17: =F17*H17 -> #DIV/0!
C18: Mortgage interest | F18: ='GIFI Details'!N49 -> 0 | G18: x | H18: =$D$8 -> #DIV/0! | I18: =F18*H18 -> #DIV/0!
C19: Maintenance & Repairs (Maintenance, Condo fees, security, lawn care, snow removal, etc) | F19: ='GIFI Details'!N50 -> 0 | G19: x | H19: =$D$8 -> #DIV/0! | I19: =F19*H19 -> #DIV/0!
C20: Other Expenses # 1 - __________________ | F20: ='GIFI Details'!N53 -> 0 | G20: x | H20: =$D$8 -> #DIV/0! | I20: =F20*H20 -> #DIV/0!
C21: Other Expenses # 2 - __________________ | F21: ='GIFI Details'!N54 -> 0 | G21: x | H21: =$D$8 -> #DIV/0! | I21: =F21*H21 -> #DIV/0!
I22: =F22*H22 -> 0
A23: TOTAL RENT | I23: =SUM(I12:I22) -> #DIV/0!
